BEGIN:VCALENDAR
VERSION:2.0
PRODID:-//Rodriguez Athletic Boosters - ECPv6.15.20//NONSGML v1.0//EN
CALSCALE:GREGORIAN
METHOD:PUBLISH
X-ORIGINAL-URL:https://rhsboosters.org
X-WR-CALDESC:Events for Rodriguez Athletic Boosters
REFRESH-INTERVAL;VALUE=DURATION:PT1H
X-Robots-Tag:noindex
X-PUBLISHED-TTL:PT1H
BEGIN:VTIMEZONE
TZID:America/Los_Angeles
BEGIN:DAYLIGHT
TZOFFSETFROM:-0800
TZOFFSETTO:-0700
TZNAME:PDT
DTSTART:20250309T100000
END:DAYLIGHT
BEGIN:STANDARD
TZOFFSETFROM:-0700
TZOFFSETTO:-0800
TZNAME:PST
DTSTART:20251102T090000
END:STANDARD
BEGIN:DAYLIGHT
TZOFFSETFROM:-0800
TZOFFSETTO:-0700
TZNAME:PDT
DTSTART:20260308T100000
END:DAYLIGHT
BEGIN:STANDARD
TZOFFSETFROM:-0700
TZOFFSETTO:-0800
TZNAME:PST
DTSTART:20261101T090000
END:STANDARD
BEGIN:DAYLIGHT
TZOFFSETFROM:-0800
TZOFFSETTO:-0700
TZNAME:PDT
DTSTART:20270314T100000
END:DAYLIGHT
BEGIN:STANDARD
TZOFFSETFROM:-0700
TZOFFSETTO:-0800
TZNAME:PST
DTSTART:20271107T090000
END:STANDARD
END:VTIMEZONE
BEGIN:VEVENT
DTSTART;TZID=America/Los_Angeles:20260415T183000
DTEND;TZID=America/Los_Angeles:20260415T203000
DTSTAMP:20260424T084636
CREATED:20260320T110617Z
LAST-MODIFIED:20260320T110617Z
UID:10000012-1776277800-1776285000@rhsboosters.org
SUMMARY:Board Meeting
DESCRIPTION:
URL:https://rhsboosters.org/event/board-meeting/2026-04-15/
LOCATION:Rodriguez Athletic Boosters\, 5000 Red Top Rd.\, Fairfield\, CA\, 94534\, United States
ORGANIZER;CN="Rodriguez Athletic Boosters":MAILTO:rabpresident2021@gmail.com
END:VEVENT
BEGIN:VEVENT
DTSTART;TZID=America/Los_Angeles:20260401T170000
DTEND;TZID=America/Los_Angeles:20260401T210000
DTSTAMP:20260424T084636
CREATED:20260326T163658Z
LAST-MODIFIED:20260326T170124Z
UID:10000021-1775062800-1775077200@rhsboosters.org
SUMMARY:Softball Dine & Donate
DESCRIPTION:
URL:https://rhsboosters.org/event/softball-dine-donate/
LOCATION:Chipotle\, 1586 Gateway Blvd.\, Fairfield\, CA\, 94534\, United States
ATTACH;FMTTYPE=image/png:https://rhsboosters.org/wp-content/uploads/2026/03/Screenshot-2026-03-26-093627.png
END:VEVENT
BEGIN:VEVENT
DTSTART;TZID=America/Los_Angeles:20260318T183000
DTEND;TZID=America/Los_Angeles:20260318T203000
DTSTAMP:20260424T084636
CREATED:20260320T110617Z
LAST-MODIFIED:20260320T110617Z
UID:10000011-1773858600-1773865800@rhsboosters.org
SUMMARY:Board Meeting
DESCRIPTION:
URL:https://rhsboosters.org/event/board-meeting/2026-03-18/
LOCATION:Rodriguez Athletic Boosters\, 5000 Red Top Rd.\, Fairfield\, CA\, 94534\, United States
ORGANIZER;CN="Rodriguez Athletic Boosters":MAILTO:rabpresident2021@gmail.com
END:VEVENT
END:VCALENDAR