BEGIN:VCALENDAR
VERSION:2.0
PRODID:-//Rodriguez Athletic Boosters - ECPv6.15.20//NONSGML v1.0//EN
CALSCALE:GREGORIAN
METHOD:PUBLISH
X-ORIGINAL-URL:https://rhsboosters.org
X-WR-CALDESC:Events for Rodriguez Athletic Boosters
REFRESH-INTERVAL;VALUE=DURATION:PT1H
X-Robots-Tag:noindex
X-PUBLISHED-TTL:PT1H
BEGIN:VTIMEZONE
TZID:America/Los_Angeles
BEGIN:DAYLIGHT
TZOFFSETFROM:-0800
TZOFFSETTO:-0700
TZNAME:PDT
DTSTART:20250309T100000
END:DAYLIGHT
BEGIN:STANDARD
TZOFFSETFROM:-0700
TZOFFSETTO:-0800
TZNAME:PST
DTSTART:20251102T090000
END:STANDARD
BEGIN:DAYLIGHT
TZOFFSETFROM:-0800
TZOFFSETTO:-0700
TZNAME:PDT
DTSTART:20260308T100000
END:DAYLIGHT
BEGIN:STANDARD
TZOFFSETFROM:-0700
TZOFFSETTO:-0800
TZNAME:PST
DTSTART:20261101T090000
END:STANDARD
BEGIN:DAYLIGHT
TZOFFSETFROM:-0800
TZOFFSETTO:-0700
TZNAME:PDT
DTSTART:20270314T100000
END:DAYLIGHT
BEGIN:STANDARD
TZOFFSETFROM:-0700
TZOFFSETTO:-0800
TZNAME:PST
DTSTART:20271107T090000
END:STANDARD
END:VTIMEZONE
BEGIN:VEVENT
DTSTART;TZID=America/Los_Angeles:20260415T183000
DTEND;TZID=America/Los_Angeles:20260415T203000
DTSTAMP:20260424T084909
CREATED:20260320T110617Z
LAST-MODIFIED:20260320T110617Z
UID:10000012-1776277800-1776285000@rhsboosters.org
SUMMARY:Board Meeting
DESCRIPTION:
URL:https://rhsboosters.org/event/board-meeting/2026-04-15/
LOCATION:Rodriguez Athletic Boosters\, 5000 Red Top Rd.\, Fairfield\, CA\, 94534\, United States
ORGANIZER;CN="Rodriguez Athletic Boosters":MAILTO:rabpresident2021@gmail.com
END:VEVENT
BEGIN:VEVENT
DTSTART;TZID=America/Los_Angeles:20260520T183000
DTEND;TZID=America/Los_Angeles:20260520T203000
DTSTAMP:20260424T084909
CREATED:20260320T110617Z
LAST-MODIFIED:20260320T110617Z
UID:10000013-1779301800-1779309000@rhsboosters.org
SUMMARY:Board Meeting
DESCRIPTION:
URL:https://rhsboosters.org/event/board-meeting/2026-05-20/
LOCATION:Rodriguez Athletic Boosters\, 5000 Red Top Rd.\, Fairfield\, CA\, 94534\, United States
ORGANIZER;CN="Rodriguez Athletic Boosters":MAILTO:rabpresident2021@gmail.com
END:VEVENT
BEGIN:VEVENT
DTSTART;TZID=America/Los_Angeles:20260617T183000
DTEND;TZID=America/Los_Angeles:20260617T203000
DTSTAMP:20260424T084909
CREATED:20260320T110617Z
LAST-MODIFIED:20260320T110617Z
UID:10000014-1781721000-1781728200@rhsboosters.org
SUMMARY:Board Meeting
DESCRIPTION:
URL:https://rhsboosters.org/event/board-meeting/2026-06-17/
LOCATION:Rodriguez Athletic Boosters\, 5000 Red Top Rd.\, Fairfield\, CA\, 94534\, United States
ORGANIZER;CN="Rodriguez Athletic Boosters":MAILTO:rabpresident2021@gmail.com
END:VEVENT
BEGIN:VEVENT
DTSTART;TZID=America/Los_Angeles:20260715T183000
DTEND;TZID=America/Los_Angeles:20260715T203000
DTSTAMP:20260424T084909
CREATED:20260320T110617Z
LAST-MODIFIED:20260320T110617Z
UID:10000015-1784140200-1784147400@rhsboosters.org
SUMMARY:Board Meeting
DESCRIPTION:
URL:https://rhsboosters.org/event/board-meeting/2026-07-15/
LOCATION:Rodriguez Athletic Boosters\, 5000 Red Top Rd.\, Fairfield\, CA\, 94534\, United States
ORGANIZER;CN="Rodriguez Athletic Boosters":MAILTO:rabpresident2021@gmail.com
END:VEVENT
BEGIN:VEVENT
DTSTART;TZID=America/Los_Angeles:20260819T183000
DTEND;TZID=America/Los_Angeles:20260819T203000
DTSTAMP:20260424T084909
CREATED:20260320T110617Z
LAST-MODIFIED:20260320T110617Z
UID:10000016-1787164200-1787171400@rhsboosters.org
SUMMARY:Board Meeting
DESCRIPTION:
URL:https://rhsboosters.org/event/board-meeting/2026-08-19/
LOCATION:Rodriguez Athletic Boosters\, 5000 Red Top Rd.\, Fairfield\, CA\, 94534\, United States
ORGANIZER;CN="Rodriguez Athletic Boosters":MAILTO:rabpresident2021@gmail.com
END:VEVENT
BEGIN:VEVENT
DTSTART;TZID=America/Los_Angeles:20260916T183000
DTEND;TZID=America/Los_Angeles:20260916T203000
DTSTAMP:20260424T084909
CREATED:20260320T110617Z
LAST-MODIFIED:20260320T110617Z
UID:10000017-1789583400-1789590600@rhsboosters.org
SUMMARY:Board Meeting
DESCRIPTION:
URL:https://rhsboosters.org/event/board-meeting/2026-09-16/
LOCATION:Rodriguez Athletic Boosters\, 5000 Red Top Rd.\, Fairfield\, CA\, 94534\, United States
ORGANIZER;CN="Rodriguez Athletic Boosters":MAILTO:rabpresident2021@gmail.com
END:VEVENT
BEGIN:VEVENT
DTSTART;TZID=America/Los_Angeles:20261021T183000
DTEND;TZID=America/Los_Angeles:20261021T203000
DTSTAMP:20260424T084909
CREATED:20260320T110617Z
LAST-MODIFIED:20260320T110617Z
UID:10000018-1792607400-1792614600@rhsboosters.org
SUMMARY:Board Meeting
DESCRIPTION:
URL:https://rhsboosters.org/event/board-meeting/2026-10-21/
LOCATION:Rodriguez Athletic Boosters\, 5000 Red Top Rd.\, Fairfield\, CA\, 94534\, United States
ORGANIZER;CN="Rodriguez Athletic Boosters":MAILTO:rabpresident2021@gmail.com
END:VEVENT
BEGIN:VEVENT
DTSTART;TZID=America/Los_Angeles:20261118T183000
DTEND;TZID=America/Los_Angeles:20261118T203000
DTSTAMP:20260424T084909
CREATED:20260320T110617Z
LAST-MODIFIED:20260320T110617Z
UID:10000019-1795026600-1795033800@rhsboosters.org
SUMMARY:Board Meeting
DESCRIPTION:
URL:https://rhsboosters.org/event/board-meeting/2026-11-18/
LOCATION:Rodriguez Athletic Boosters\, 5000 Red Top Rd.\, Fairfield\, CA\, 94534\, United States
ORGANIZER;CN="Rodriguez Athletic Boosters":MAILTO:rabpresident2021@gmail.com
END:VEVENT
BEGIN:VEVENT
DTSTART;TZID=America/Los_Angeles:20261216T183000
DTEND;TZID=America/Los_Angeles:20261216T203000
DTSTAMP:20260424T084909
CREATED:20260320T110617Z
LAST-MODIFIED:20260320T110617Z
UID:10000020-1797445800-1797453000@rhsboosters.org
SUMMARY:Board Meeting
DESCRIPTION:
URL:https://rhsboosters.org/event/board-meeting/2026-12-16/
LOCATION:Rodriguez Athletic Boosters\, 5000 Red Top Rd.\, Fairfield\, CA\, 94534\, United States
ORGANIZER;CN="Rodriguez Athletic Boosters":MAILTO:rabpresident2021@gmail.com
END:VEVENT
END:VCALENDAR